BEGIN:VCALENDAR
VERSION:2.0
PRODID:-//SportPlan//Event Calendar//EN
CALSCALE:GREGORIAN
BEGIN:VEVENT
UID:9cb23afc-069c-4faa-8ce5-0aa3d2316af9@sportplan.local
DTSTAMP:20260420T210928Z
DTSTART;VALUE=DATE:20260627
DTEND;VALUE=DATE:20260628
SUMMARY:Lewa Safari Marathon 2026 (International)
DESCRIPTION:Official international Lewa Safari Marathon site\; 2026 edition confirmed 27 June 2026\; organised by Tusk + Lewa\; 4 race categories (full\, half\, 10K\, 5K junior)\; unique wildlife conservancy course\; UNESCO World Heritage Site setting
LOCATION:Lewa Wildlife Conservancy\, Laikipia\, Kenya
URL:https://sportplan.vercel.app/en/events/lewa-safari-marathon-2026-international-2026-06-27
END:VEVENT
END:VCALENDAR
