BEGIN:VCALENDAR
VERSION:2.0
PRODID:-//SportPlan//Event Calendar//EN
CALSCALE:GREGORIAN
BEGIN:VEVENT
UID:665b465d-59c9-439b-b990-e59ff3678b59@sportplan.local
DTSTAMP:20260420T234720Z
DTSTART;VALUE=DATE:20260501
DTEND;VALUE=DATE:20260502
SUMMARY:Lenart XI Bieg Uliczny o Puchar Starosty Powiatu Kępińskiego — Bieg Służb Mundurowych
DESCRIPTION:
LOCATION:Kępno
URL:https://sportplan.vercel.app/en/events/lenart-xi-bieg-uliczny-o-puchar-starosty-powiatu-kepinskiego-bieg-s-uzb-mundurowych-kepno-2026-05-01
END:VEVENT
END:VCALENDAR
