BEGIN:VCALENDAR
VERSION:2.0
PRODID:-//SportPlan//Event Calendar//EN
CALSCALE:GREGORIAN
BEGIN:VEVENT
UID:65f54145-a53b-4aed-89df-0112398da980@sportplan.local
DTSTAMP:20260420T221654Z
DTSTART;VALUE=DATE:20260725
DTEND;VALUE=DATE:20260726
SUMMARY:Le 32km présenté par Rio Tinto 2026
DESCRIPTION:Le 32km présenté par Rio Tinto is an official open-water swimming race within the Traversée internationale du lac St-Jean festival in Quebec\, Canada on 25 July 2026. The official Traversée site lists the 72nd edition festival from 18 to 25 July 2026 and describes the 32 km event as a point-to-point race linking Péribonka to Roberval across Lac Saint-Jean.
LOCATION:Péribonka to Roberval\, Quebec\, Canada
URL:https://sportplan.vercel.app/en/events/le-32km-presente-par-rio-tinto-2026-roberval-2026-07-25
END:VEVENT
END:VCALENDAR
