BEGIN:VCALENDAR
VERSION:2.0
PRODID:-//SportPlan//Event Calendar//EN
CALSCALE:GREGORIAN
BEGIN:VEVENT
UID:34c28874-26dc-4e7d-8155-d9ba5d3ef4c7@sportplan.local
DTSTAMP:20260420T192027Z
DTSTART;VALUE=DATE:20260522
DTEND;VALUE=DATE:20260523
SUMMARY:Lcw Peaks Maastricht Swim
DESCRIPTION:Lcw Peaks Maastricht Swim vindt plaats op 22 mei 2026 in Maastricht. Het evenement is een mooie kans om de sfeer te beleven en de ervaring met andere deelnemers te delen. Een sterke keuze voor wie een seizoensdoel wil plannen en een goed georganiseerde sportdag wil meemaken.
LOCATION:Maastricht
URL:https://sportplan.vercel.app/en/events/lcw-peaks-maastricht-swim-maastricht-2026-05-22
END:VEVENT
END:VCALENDAR
