BEGIN:VCALENDAR
VERSION:2.0
PRODID:-//SportPlan//Event Calendar//EN
CALSCALE:GREGORIAN
BEGIN:VEVENT
UID:56f733d2-5b97-480b-8ba0-66f81244ce77@sportplan.local
DTSTAMP:20260420T193643Z
DTSTART;VALUE=DATE:20260919
DTEND;VALUE=DATE:20260920
SUMMARY:Lcw Cycle Flanders Fields
DESCRIPTION:Lcw Cycle Flanders Fields aura lieu le 19 septembre 2026 à Nieuwpoort. C’est un rendez-vous sportif idéal avec un parcours pensé pour des coureurs de différents niveaux. Une belle option pour viser un chrono solide ou simplement profiter de l’expérience et de l’ambiance de l’événement.
LOCATION:Nieuwpoort
URL:https://sportplan.vercel.app/en/events/lcw-cycle-flanders-fields-nieuwpoort-2026-09-19
END:VEVENT
END:VCALENDAR
