BEGIN:VCALENDAR
VERSION:2.0
PRODID:-//SportPlan//Event Calendar//EN
CALSCALE:GREGORIAN
BEGIN:VEVENT
UID:cbeccda0-bd0e-4177-bef3-01bd7fe4524f@sportplan.local
DTSTAMP:20260421T010207Z
DTSTART;VALUE=DATE:20260718
DTEND;VALUE=DATE:20260719
SUMMARY:Laugavegur Ultra 55K 2026
DESCRIPTION:Laugavegur Ultra 55K 2026 takes place in Landmannalaugar\, South Iceland on July 18\, 2026\, bringing runners together for an enjoyable event in a memorable setting. Expect covering approximately 55 km with a well-marked route and race-day energy\, making it a solid choice for both committed participants and motivated newcomers.
LOCATION:Landmannalaugar\, South Iceland
URL:https://sportplan.vercel.app/en/events/laugavegur-ultra-55k-2026-landmannalaugar-2026-07-18
END:VEVENT
END:VCALENDAR
