BEGIN:VCALENDAR
VERSION:2.0
PRODID:-//SportPlan//Event Calendar//EN
CALSCALE:GREGORIAN
BEGIN:VEVENT
UID:459503a2-d0d5-468c-b2dd-ecb5b4277658@sportplan.local
DTSTAMP:20260420T204843Z
DTSTART;VALUE=DATE:20260926
DTEND;VALUE=DATE:20260927
SUMMARY:Latvijas čempionāts taku skrējienā
DESCRIPTION:discovered via Latvian Athletics Federation official calendar (athletics.lv)\; Latvia had 6 queue entries before this run and remained under the 10+ deprioritization threshold
LOCATION:Sigulda
URL:https://sportplan.vercel.app/en/events/latvijas-cempionats-taku-skrejiena-2026-09-26
END:VEVENT
END:VCALENDAR
