BEGIN:VCALENDAR
VERSION:2.0
PRODID:-//SportPlan//Event Calendar//EN
CALSCALE:GREGORIAN
BEGIN:VEVENT
UID:b0c35f4e-179c-4f10-b01f-499cb1915f12@sportplan.local
DTSTAMP:20260420T204721Z
DTSTART;VALUE=DATE:20260502
DTEND;VALUE=DATE:20260503
SUMMARY:Latvijas čempionāts 100 km skrējienā
DESCRIPTION:discovered via Latvian Athletics Federation official calendar (athletics.lv)\; Latvia had 6 queue entries before this run and remained under the 10+ deprioritization threshold
LOCATION:Rīga - Valmiera
URL:https://sportplan.vercel.app/en/events/latvijas-cempionats-100-km-skrejiena-2026-05-02
END:VEVENT
END:VCALENDAR
