BEGIN:VCALENDAR
VERSION:2.0
PRODID:-//SportPlan//Event Calendar//EN
CALSCALE:GREGORIAN
BEGIN:VEVENT
UID:ed100d2f-61ea-4b5d-81a4-37e306d6944d@sportplan.local
DTSTAMP:20260420T204712Z
DTSTART;VALUE=DATE:20260606
DTEND;VALUE=DATE:20260607
SUMMARY:Latvian Orienteering Championship Sprint 2026
DESCRIPTION:Latvian Orienteering Championship Sprint 2026 is an official amateur sprint-orienteering event in Sabile\, Talsi Municipality\, Latvia on 6 June 2026. The official LOF event bulletin confirms the competition center at Sabile Sports Centre\, sprint racing in the town area\, and open participation classes OPEN 1 and OPEN 2 for regular participants.
LOCATION:Sabile
URL:https://sportplan.vercel.app/en/events/latvian-orienteering-championship-sprint-sabile-2026-06-06
END:VEVENT
END:VCALENDAR
