BEGIN:VCALENDAR
VERSION:2.0
PRODID:-//SportPlan//Event Calendar//EN
CALSCALE:GREGORIAN
BEGIN:VEVENT
UID:3997aa9d-f990-4820-b7e6-46b82ae36def@sportplan.local
DTSTAMP:20260420T191804Z
DTSTART;VALUE=DATE:20260524
DTEND;VALUE=DATE:20260525
SUMMARY:Lagoa Swimrun
DESCRIPTION:Lagoa Swimrun acontecerá em 24 de maio de 2026 em Porches. É uma ótima oportunidade para aproveitar o ambiente do evento e viver uma experiência esportiva bem organizada. Uma excelente escolha tanto para participantes frequentes quanto para quem quer adicionar um novo desafio ao calendário.
LOCATION:Porches
URL:https://sportplan.vercel.app/en/events/lagoa-swimrun-porches-2026-05-24
END:VEVENT
END:VCALENDAR
