BEGIN:VCALENDAR
VERSION:2.0
PRODID:-//SportPlan//Event Calendar//EN
CALSCALE:GREGORIAN
BEGIN:VEVENT
UID:63aa46fa-0112-4056-b4a7-38d6e3f88bb8@sportplan.local
DTSTAMP:20260421T011003Z
DTSTART;VALUE=DATE:20270214
DTEND;VALUE=DATE:20270215
SUMMARY:La Transju Rando Skating 25 km 2027
DESCRIPTION:La Transju Rando Skating 25 km 2027 is La Transju's official recreational 25 km skating-format participation event in France on 14 February 2027. The official detail page positions it as a shorter\, accessible Transju experience in the Jura Mountains for amateur cross-country skiers.
LOCATION:Les Rousses area\, Jura\, Bourgogne-Franche-Comté\, France
URL:https://sportplan.vercel.app/en/events/la-transju-rando-skating-25-km-2027-les-rousses-2027-02-14
END:VEVENT
END:VCALENDAR
