BEGIN:VCALENDAR
VERSION:2.0
PRODID:-//SportPlan//Event Calendar//EN
CALSCALE:GREGORIAN
BEGIN:VEVENT
UID:cb7531a8-c26e-49e0-aefd-e3c40c2f455a@sportplan.local
DTSTAMP:20260420T205643Z
DTSTART;VALUE=DATE:20261012
DTEND;VALUE=DATE:20261013
SUMMARY:La Sportiva Andorra Trail\,#La Braibal
DESCRIPTION:Official Dynafit Andorra Trail itinerary page lists #La Braibal as a standalone 2026 stage-race option in Escaldes-Engordany.
LOCATION:Escaldes-Engordany\, Andorra
URL:https://sportplan.vercel.app/en/events/la-sportiva-andorra-trail-la-braibal-escaldes-engordany-2026-10-12-25k
END:VEVENT
END:VCALENDAR
