BEGIN:VCALENDAR
VERSION:2.0
PRODID:-//SportPlan//Event Calendar//EN
CALSCALE:GREGORIAN
BEGIN:VEVENT
UID:5d16dc4f-a4b6-43ab-9d60-f1563073899d@sportplan.local
DTSTAMP:20260420T205658Z
DTSTART;VALUE=DATE:20261011
DTEND;VALUE=DATE:20261012
SUMMARY:La Sportiva Andorra Trail\, 5K Escaldes-Engordany
DESCRIPTION:Official Dynafit Andorra Trail itinerary page lists #5K Engordany as the opening single-stage option of the 2026 event in Escaldes-Engordany.
LOCATION:Escaldes-Engordany\, Andorra
URL:https://sportplan.vercel.app/en/events/la-sportiva-andorra-trail-5k-escaldes-engordany-escaldes-engordany-2026-10-11-5k
END:VEVENT
END:VCALENDAR
