BEGIN:VCALENDAR
VERSION:2.0
PRODID:-//SportPlan//Event Calendar//EN
CALSCALE:GREGORIAN
BEGIN:VEVENT
UID:6c649f5d-c5ac-4c19-96b1-c834d4321d7d@sportplan.local
DTSTAMP:20260420T221811Z
DTSTART;VALUE=DATE:20270116
DTEND;VALUE=DATE:20270117
SUMMARY:La Diagonela 2027
DESCRIPTION:La Diagonela 2027 is an official amateur cross-country ski marathon in the Engadin\, Switzerland on 16 January 2027. The official La Diagonela race page lists the 2027 date and the Pontresina to Zuoz route\, while the organizer site describes La Diagonela as the event's long-distance public race and links registration for the 2027 edition.
LOCATION:Pontresina to Zuoz\, Graubünden\, Switzerland
URL:https://sportplan.vercel.app/en/events/la-diagonela-2027-pontresina-2027-01-16
END:VEVENT
END:VCALENDAR
