BEGIN:VCALENDAR
VERSION:2.0
PRODID:-//SportPlan//Event Calendar//EN
CALSCALE:GREGORIAN
BEGIN:VEVENT
UID:ce50777e-5195-4a46-9de9-1318663e795c@sportplan.local
DTSTAMP:20260420T204713Z
DTSTART;VALUE=DATE:20260512
DTEND;VALUE=DATE:20260513
SUMMARY:La Corriolera Navarclina - 17K
DESCRIPTION:La Corriolera Navarclina - 17K se celebra el 12 de mayo de 2026 en Navarcles\, Barcelona\, Cataluña. La prueba recorre 17 km. Ideal para participantes que quieren disfrutar del recorrido\, el ambiente del evento y una jornada activa.
LOCATION:Navarcles\, Barcelona\, Cataluña
URL:https://sportplan.vercel.app/en/events/la-corriolera-navarclina-17k-navarcles-2026-05-12-17k
END:VEVENT
END:VCALENDAR
