BEGIN:VCALENDAR
VERSION:2.0
PRODID:-//SportPlan//Event Calendar//EN
CALSCALE:GREGORIAN
BEGIN:VEVENT
UID:48f10e8b-4b43-484e-a530-1420c5fca69a@sportplan.local
DTSTAMP:20260420T204525Z
DTSTART;VALUE=DATE:20260809
DTEND;VALUE=DATE:20260810
SUMMARY:La Carrera del Pacifico - Cal10K
DESCRIPTION:La Carrera del Pacifico - Cal10K se celebrará el 9 de agosto de 2026 en Cali\, Colombia. Es una cita ideal para quienes buscan un recorrido bien organizado\, buen ambiente y una experiencia deportiva memorable. Con un entorno atractivo y una organización pensada para disfrutar la jornada\, es una propuesta interesante para distintos niveles de participantes.
LOCATION:Cali\, Colombia
URL:https://sportplan.vercel.app/en/events/la-carrera-del-pacifico-cal10k-2026-08-09
END:VEVENT
END:VCALENDAR
