BEGIN:VCALENDAR
VERSION:2.0
PRODID:-//SportPlan//Event Calendar//EN
CALSCALE:GREGORIAN
BEGIN:VEVENT
UID:3100793d-e981-4616-a2f1-59f66958c41f@sportplan.local
DTSTAMP:20260420T220448Z
DTSTART;VALUE=DATE:20261011
DTEND;VALUE=DATE:20261012
SUMMARY:l'Étape Brasil 2026
DESCRIPTION:l'Étape Brasil 2026 acontece em 11 de outubro de 2026 em Rio de Janeiro\, Rio de Janeiro. É uma ótima opção para quem procura boa organização e um ambiente de prova envolvente\, com um percurso de 130 km. Uma experiência indicada tanto para buscar desempenho quanto para aproveitar o percurso e a atmosfera do evento.
LOCATION:Rio de Janeiro\, Rio de Janeiro
URL:https://sportplan.vercel.app/en/events/l-tape-brasil-2026-rio-de-janeiro-2026-10-11
END:VEVENT
END:VCALENDAR
