BEGIN:VCALENDAR
VERSION:2.0
PRODID:-//SportPlan//Event Calendar//EN
CALSCALE:GREGORIAN
BEGIN:VEVENT
UID:806eec41-0825-4d2a-9fc9-39ebdca03f0f@sportplan.local
DTSTAMP:20260420T191740Z
DTSTART;VALUE=DATE:20260726
DTEND;VALUE=DATE:20260727
SUMMARY:L'Étape Cancún 2026
DESCRIPTION:L'Étape Cancún 2026 is an amateur road-cycling event in Cancún\, Quintana Roo\, Mexico. The official event site says the race will take place on 26 July 2026 in Cancún\, with closed roads through the hotel zone and route options designed for different rider levels. The official site highlights a long route of about 101.5 km with 133 m of elevation\, plus a shorter route of about 55.6 km.
LOCATION:Cancún
URL:https://sportplan.vercel.app/en/events/l-etape-cancun-2026-cancun-2026-07-26
END:VEVENT
END:VCALENDAR
