BEGIN:VCALENDAR
VERSION:2.0
PRODID:-//SportPlan//Event Calendar//EN
CALSCALE:GREGORIAN
BEGIN:VEVENT
UID:293c56f7-ff3d-4f2f-be6f-9bf1e0b00356@sportplan.local
DTSTAMP:20260420T163630Z
DTSTART;VALUE=DATE:20260420
DTEND;VALUE=DATE:20260421
SUMMARY:l'Asnierun
DESCRIPTION:l'Asnierun a lieu à Bourges le 20 avril 2026. C’est un rendez-vous parfait pour profiter d’une belle journée de course\, avec un parcours de 6 km\, idéal autant pour viser un chrono que pour profiter de l’ambiance locale. Que vous visiez la performance ou une expérience plus conviviale\, l’événement promet une ambiance motivante du début à la fin.
LOCATION:Bourges
URL:https://sportplan.vercel.app/en/events/l-asnierun-bourges-2026-04-20
END:VEVENT
END:VCALENDAR
