BEGIN:VCALENDAR
VERSION:2.0
PRODID:-//SportPlan//Event Calendar//EN
CALSCALE:GREGORIAN
BEGIN:VEVENT
UID:e30184c3-3d6a-4242-9f63-27468948aeb5@sportplan.local
DTSTAMP:20260420T210810Z
DTSTART;VALUE=DATE:20261010
DTEND;VALUE=DATE:20261011
SUMMARY:Kullamannen Ultra Trail 100K 2026
DESCRIPTION:Kullamannen Ultra Trail 100K 2026 takes place in Mölle\, Skåne on October 10\, 2026. It is a strong option for participants looking for a well-organized sporting event with a 100 km course. Ideal for chasing a personal best\, taking on a new challenge\, or simply enjoying the event-day energy.
LOCATION:Mölle\, Skåne
URL:https://sportplan.vercel.app/en/events/kullamannen-ultra-trail-100k-2026-m-lle-2026-10-10
END:VEVENT
END:VCALENDAR
