BEGIN:VCALENDAR
VERSION:2.0
PRODID:-//SportPlan//Event Calendar//EN
CALSCALE:GREGORIAN
BEGIN:VEVENT
UID:5b4c6f74-020b-4530-85c9-d3c2dbfd47e9@sportplan.local
DTSTAMP:20260420T204318Z
DTSTART;VALUE=DATE:20260425
DTEND;VALUE=DATE:20260426
SUMMARY:Kuftrail UAM
DESCRIPTION:Kuftrail UAM findet am 25. April 2026 in Kufstein statt. Die Veranstaltung ist eine starke Gelegenheit für einen besonderen Lauftag\, mit echter Wettkampfstimmung und einer Strecke für verschiedene Laufniveaus. Ob mit sportlichem Ehrgeiz oder mit Fokus auf das Erlebnis – hier erwartet die Teilnehmenden eine motivierende Atmosphäre.
LOCATION:Kufstein
URL:https://sportplan.vercel.app/en/events/kuftrail-uam-kufstein-2026-04-25
END:VEVENT
END:VCALENDAR
