BEGIN:VCALENDAR
VERSION:2.0
PRODID:-//SportPlan//Event Calendar//EN
CALSCALE:GREGORIAN
BEGIN:VEVENT
UID:ed2b838f-f69c-4bbb-9255-893640ec10f4@sportplan.local
DTSTAMP:20260420T210729Z
DTSTART;VALUE=DATE:20261011
DTEND;VALUE=DATE:20261012
SUMMARY:Kotor Middle Distance Triathlon 2026
DESCRIPTION:Kotor Middle Distance Triathlon 2026 is an official amateur middle-distance triathlon in Kotor\, Montenegro on 11 October 2026. The Montenegro Triathlon Federation's 2026 championship calendar lists Kotor as the national championship race for the middle-distance format\, organized by TK Multisport akademija Mayer\, using the federation's official season planning page as the canonical source.
LOCATION:Kotor
URL:https://sportplan.vercel.app/en/events/kotor-middle-distance-triathlon-2026-kotor-2026-10-11
END:VEVENT
END:VCALENDAR
