BEGIN:VCALENDAR
VERSION:2.0
PRODID:-//SportPlan//Event Calendar//EN
CALSCALE:GREGORIAN
BEGIN:VEVENT
UID:ea88331e-c4d6-4205-8b0e-991f50d3cd60@sportplan.local
DTSTAMP:20260420T180423Z
DTSTART;VALUE=DATE:20260430
DTEND;VALUE=DATE:20260504
SUMMARY:Korea 50 Peaks By UTMB 100K
DESCRIPTION:Korea 50 Peaks By UTMB 100K는 2026년 4월 30일 Goesan\, Chungbuk에서 열립니다. 잘 준비된 스포츠 이벤트를 찾는 참가자에게 좋은 선택입니다. 거리는 약 100km입니다. 꾸준히 대회에 참가하는 사람은 물론\, 새로운 목표를 세우고 싶은 사람에게도 잘 맞습니다.
LOCATION:Goesan\, Chungbuk
URL:https://sportplan.vercel.app/en/events/korea-50-peaks-by-utmb-100k-goesan-2026-04-30
END:VEVENT
END:VCALENDAR
