BEGIN:VCALENDAR
VERSION:2.0
PRODID:-//SportPlan//Event Calendar//EN
CALSCALE:GREGORIAN
BEGIN:VEVENT
UID:421f1783-1150-4ddd-ba83-2e8c7162573a@sportplan.local
DTSTAMP:20260420T204843Z
DTSTART;VALUE=DATE:20260926
DTEND;VALUE=DATE:20260927
SUMMARY:König Ludwig Lauf Halbmarathon 21 km 2026
DESCRIPTION:The König Ludwig Lauf summer edition includes an amateur-open 21 km half marathon through the Ammergauer Alpen from Ettal to Oberammergau. The official race page describes it as a public race for amateurs and pros\, with aid stations\, shuttle service\, finish infrastructure in Oberammergau\, and online registration open until 23 September 2026.
LOCATION:Oberammergau\, Bavaria\, Germany
URL:https://sportplan.vercel.app/en/events/konig-ludwig-lauf-halbmarathon-21km-2026-oberammergau-2026-09-26
END:VEVENT
END:VCALENDAR
