BEGIN:VCALENDAR
VERSION:2.0
PRODID:-//SportPlan//Event Calendar//EN
CALSCALE:GREGORIAN
BEGIN:VEVENT
UID:d97afaa8-56be-4c79-b7d5-d43c730f7cee@sportplan.local
DTSTAMP:20260420T191657Z
DTSTART;VALUE=DATE:20261012
DTEND;VALUE=DATE:20261013
SUMMARY:Kolitza Balmatrail
DESCRIPTION:Kolitza Balmatrail se celebra el 12 de octubre de 2026 en Balmaseda\, Vizcaya\, País Vasco. Es una cita ideal para quienes buscan un recorrido bien señalizado y un gran ambiente de carrera\, con un recorrido de 25 km. Perfecta tanto para competir a buen ritmo como para disfrutar de la experiencia y del entorno del evento.
LOCATION:Balmaseda\, Vizcaya\, País Vasco
URL:https://sportplan.vercel.app/en/events/kolitza-balmatrail-balmaseda-2026-10-12-25k
END:VEVENT
END:VCALENDAR
