BEGIN:VCALENDAR
VERSION:2.0
PRODID:-//SportPlan//Event Calendar//EN
CALSCALE:GREGORIAN
BEGIN:VEVENT
UID:79d4fa07-34da-4fd4-a05a-8e3a25d4821f@sportplan.local
DTSTAMP:20260420T204328Z
DTSTART;VALUE=DATE:20260614
DTEND;VALUE=DATE:20260615
SUMMARY:Køge Jernmand 2026
DESCRIPTION:Køge Jernmand 2026 is an official amateur triathlon event in Køge\, Denmark on 14 June 2026. Triatlon Danmark positions the race around the beach\, harbour transition area\, and Kulturtorvet finish zone\, with open short-distance and relay participation alongside the Danish middle-distance championship and aquabike races.
LOCATION:Kulturtorvet\, Køge
URL:https://sportplan.vercel.app/en/events/koege-jernmand-2026-2026-06-14
END:VEVENT
END:VCALENDAR
