BEGIN:VCALENDAR
VERSION:2.0
PRODID:-//SportPlan//Event Calendar//EN
CALSCALE:GREGORIAN
BEGIN:VEVENT
UID:909c464f-18b1-4a64-b381-c531a35298ba@sportplan.local
DTSTAMP:20260420T194906Z
DTSTART;VALUE=DATE:20260501
DTEND;VALUE=DATE:20260502
SUMMARY:Knokke Run
DESCRIPTION:Knokke Run aura lieu le 1 mai 2026 à Knokke-Heist. C'est un bon choix pour les participants à la recherche d'une expérience sportive bien organisée. L'événement convient aussi bien aux habitués qu'à ceux qui veulent se fixer un nouveau défi cette saison.
LOCATION:Knokke-Heist
URL:https://sportplan.vercel.app/en/events/knokke-run-knokke-heist-2026-05-01
END:VEVENT
END:VCALENDAR
