BEGIN:VCALENDAR
VERSION:2.0
PRODID:-//SportPlan//Event Calendar//EN
CALSCALE:GREGORIAN
BEGIN:VEVENT
UID:32b26a81-e352-45d0-a67b-1c43a61539eb@sportplan.local
DTSTAMP:20260420T211353Z
DTSTART;VALUE=DATE:20260704
DTEND;VALUE=DATE:20260705
SUMMARY:KM Vertical du Mont-Blanc 2026
DESCRIPTION:KM Vertical du Mont-Blanc 2026 aura lieu le 4 juillet 2026 à Chamonix\, Haute-Savoie. C'est un rendez-vous intéressant pour les participants à la recherche d'une expérience sportive bien organisée et d'une ambiance motivante. Le parcours couvre environ 4 km. Consultez les informations officielles de l'événement pour connaître les horaires\, le parcours et les détails logistiques.
LOCATION:Chamonix\, Haute-Savoie
URL:https://sportplan.vercel.app/en/events/km-vertical-du-mont-blanc-2026-chamonix-2026-07-04
END:VEVENT
END:VCALENDAR
