BEGIN:VCALENDAR
VERSION:2.0
PRODID:-//SportPlan//Event Calendar//EN
CALSCALE:GREGORIAN
BEGIN:VEVENT
UID:98d725be-9a78-45b5-9c21-2c5a111d676f@sportplan.local
DTSTAMP:20260420T211024Z
DTSTART;VALUE=DATE:20260424
DTEND;VALUE=DATE:20260425
SUMMARY:Kip Keino Classic 2026 - World Athletics Continental Tour Gold
DESCRIPTION:World Athletics Continental Tour Gold meeting\; stable World Athletics URL pattern for the 7th edition\; track and field meet at Nyayo National Stadium with WaveLight technology debut in Africa
LOCATION:Nairobi\, Kenya
URL:https://sportplan.vercel.app/en/events/kip-keino-classic-2026-world-athletics-continental-tour-gold-2026-04-24
END:VEVENT
END:VCALENDAR
