BEGIN:VCALENDAR
VERSION:2.0
PRODID:-//SportPlan//Event Calendar//EN
CALSCALE:GREGORIAN
BEGIN:VEVENT
UID:9bea670c-7744-493b-9725-3faf3b2e7aea@sportplan.local
DTSTAMP:20260420T180332Z
DTSTART;VALUE=DATE:20260524
DTEND;VALUE=DATE:20260525
SUMMARY:Kenya Wildlife Marathon and Half-Marathon
DESCRIPTION:Kenya Wildlife Marathon and Half-Marathon - Machakos\, Kenya | 24 May\, 2026 (Sun) | Marathon\, 30K\, Half Marathon\, 10K and 5K Register now!
LOCATION:Machakos\, Kenya
URL:https://sportplan.vercel.app/en/events/kenya-wildlife-marathon-and-half-marathon-24-may-2026
END:VEVENT
END:VCALENDAR
