BEGIN:VCALENDAR
VERSION:2.0
PRODID:-//SportPlan//Event Calendar//EN
CALSCALE:GREGORIAN
BEGIN:VEVENT
UID:b8c5f579-51c8-43c7-8d9b-90e11dd5a573@sportplan.local
DTSTAMP:20260420T204309Z
DTSTART;VALUE=DATE:20260704
DTEND;VALUE=DATE:20260705
SUMMARY:Kdtrail Estampida Nocturna
DESCRIPTION:Kdtrail Estampida Nocturna se celebrará el 4 de julio de 2026 en Cadrete\, Zaragoza. Es una buena cita para participantes que buscan una experiencia deportiva bien organizada y un ambiente motivador. Consulta la información oficial del evento para conocer horarios\, recorridos y detalles logísticos.
LOCATION:Cadrete\, Zaragoza
URL:https://sportplan.vercel.app/en/events/kdtrail-estampida-nocturna-cadrete-2026-07-04
END:VEVENT
END:VCALENDAR
