BEGIN:VCALENDAR
VERSION:2.0
PRODID:-//SportPlan//Event Calendar//EN
CALSCALE:GREGORIAN
BEGIN:VEVENT
UID:d3b237ca-6876-4e26-8aed-f694f6b519a1@sportplan.local
DTSTAMP:20260420T204209Z
DTSTART;VALUE=DATE:20260927
DTEND;VALUE=DATE:20260928
SUMMARY:KapuvárRun
DESCRIPTION:Wink-Intretech KapuvárRun 2026 is the official KapuvárRun race day in Kapuvár\, Hungary on 27 September 2026. The official organizer page presents it as the fifth edition of the city running event with public registration\, multiple race formats\, and a flat urban course designed for broad amateur participation.
LOCATION:Kapuvár\, Hungary
URL:https://sportplan.vercel.app/en/events/kapuvarrun-2026-09-27
END:VEVENT
END:VCALENDAR
