BEGIN:VCALENDAR
VERSION:2.0
PRODID:-//SportPlan//Event Calendar//EN
CALSCALE:GREGORIAN
BEGIN:VEVENT
UID:3ff92224-651a-4eea-a48c-cc4a6eb76870@sportplan.local
DTSTAMP:20260420T204807Z
DTSTART;VALUE=DATE:20260621
DTEND;VALUE=DATE:20260622
SUMMARY:Kaga Spa Trail Endurance100
DESCRIPTION:Kaga Spa Trail Endurance100は2026年6月21日にYamanaka Onsen\, Ishikawaで開催予定で、この会場ならではの雰囲気を楽しめるイベントです。 距離は約100kmで、普段から参加している人にも、新しいチャレンジを探している人にも参加しやすい内容です。
LOCATION:Yamanaka Onsen\, Ishikawa
URL:https://sportplan.vercel.app/en/events/kaga-spa-trail-endurance100-yamanaka-onsen-2026-06-21-100k
END:VEVENT
END:VCALENDAR
