BEGIN:VCALENDAR
VERSION:2.0
PRODID:-//SportPlan//Event Calendar//EN
CALSCALE:GREGORIAN
BEGIN:VEVENT
UID:0a3afa5f-b833-481d-9f23-a4a7f00c3474@sportplan.local
DTSTAMP:20260420T192031Z
DTSTART;VALUE=DATE:20261208
DTEND;VALUE=DATE:20261209
SUMMARY:K42 Canarias Anaga Marathon
DESCRIPTION:K42 Canarias Anaga Marathon se celebrará el 8 de diciembre de 2026 en La Laguna\, Tenerife\, Canarias. Es una buena cita para quienes quieren vivir el ambiente del evento en directo y planificar la jornada con antelación. La sede prevista está a unos 44 km\, así que conviene revisar accesos\, horarios y servicios antes de salir.
LOCATION:La Laguna\, Tenerife\, Canarias
URL:https://sportplan.vercel.app/en/events/k42-canarias-anaga-marathon-la-laguna-2026-12-08-44k
END:VEVENT
END:VCALENDAR
