BEGIN:VCALENDAR
VERSION:2.0
PRODID:-//SportPlan//Event Calendar//EN
CALSCALE:GREGORIAN
BEGIN:VEVENT
UID:4ade772b-0fa5-4533-8da3-c798a3246baf@sportplan.local
DTSTAMP:20260420T191843Z
DTSTART;VALUE=DATE:20261101
DTEND;VALUE=DATE:20261102
SUMMARY:JTBC Seoul Marathon 2026
DESCRIPTION:Official World Athletics calendar\; annual autumn marathon\; WA Bronze Label\; Jamsil Olympic Stadium finish
LOCATION:Seoul (KOR)
URL:https://sportplan.vercel.app/en/events/jtbc-seoul-marathon-2026-2026-11-01
END:VEVENT
END:VCALENDAR
