BEGIN:VCALENDAR
VERSION:2.0
PRODID:-//SportPlan//Event Calendar//EN
CALSCALE:GREGORIAN
BEGIN:VEVENT
UID:b72609b1-1703-4918-9784-f6f149006ff8@sportplan.local
DTSTAMP:20260420T205811Z
DTSTART;VALUE=DATE:20260829
DTEND;VALUE=DATE:20260830
SUMMARY:Jönköping Marathon & Half Marathon
DESCRIPTION:Jönköping Marathon & Half Marathon arrangeras den 29 augusti 2026 i Jönköping\, Sweden. Det är ett bra val för deltagare och anhöriga som söker ett aktivt och välorganiserat evenemang. Distansen bekräftas av arrangören.
LOCATION:Jönköping\, Sweden
URL:https://sportplan.vercel.app/en/events/jonkoping-marathon-half-marathon-2026-08-29
END:VEVENT
END:VCALENDAR
