BEGIN:VCALENDAR
VERSION:2.0
PRODID:-//SportPlan//Event Calendar//EN
CALSCALE:GREGORIAN
BEGIN:VEVENT
UID:b928099d-b23f-4942-9439-9862ad9abd63@sportplan.local
DTSTAMP:20260420T210928Z
DTSTART;VALUE=DATE:20260614
DTEND;VALUE=DATE:20260615
SUMMARY:Jeju International Marathon 2026
DESCRIPTION:Jeju International Marathon 2026 행사는 2026년 6월 14일에 Jeju\, Jeju에서 열립니다. 약 42.2km 코스로 진행됩니다\, 참가자들이 안정적으로 즐길 수 있는 잘 준비된 레이스 경험을 제공합니다. 현장의 분위기를 느끼며 자신의 페이스를 점검하고 알찬 레이스 데이를 보낼 수 있는 대회입니다.
LOCATION:Jeju\, Jeju
URL:https://sportplan.vercel.app/en/events/jeju-international-marathon-2026-jeju-2026-06-14
END:VEVENT
END:VCALENDAR
