BEGIN:VCALENDAR
VERSION:2.0
PRODID:-//SportPlan//Event Calendar//EN
CALSCALE:GREGORIAN
BEGIN:VEVENT
UID:747cf5c5-4d58-458c-8806-e82616e654ef@sportplan.local
DTSTAMP:20260420T180959Z
DTSTART;VALUE=DATE:20260628
DTEND;VALUE=DATE:20260629
SUMMARY:IX Trail Bronchales - Trail 22K Running
DESCRIPTION:IX Trail Bronchales - Trail 22K Running se celebrará el 2026-06-28 en Bronchales\, Teruel\, Aragón. Es una buena opción para quienes buscan un reto bien organizado sobre una distancia de 22 km. Ideal tanto para participantes que quieren competir como para quienes prefieren disfrutar del ambiente del evento.
LOCATION:Bronchales\, Teruel\, Aragón
URL:https://sportplan.vercel.app/en/events/ix-trail-bronchales-trail-22k-running-bronchales-2026-06-28-22k
END:VEVENT
END:VCALENDAR
