BEGIN:VCALENDAR
VERSION:2.0
PRODID:-//SportPlan//Event Calendar//EN
CALSCALE:GREGORIAN
BEGIN:VEVENT
UID:e47a1f6b-97f2-4c4c-aa45-edce75366261@sportplan.local
DTSTAMP:20260420T192135Z
DTSTART;VALUE=DATE:20261117
DTEND;VALUE=DATE:20261118
SUMMARY:IX Desafio Sierra de Villaluenga - Corta
DESCRIPTION:IX Desafio Sierra de Villaluenga - Corta se celebrará el 17 noviembre 2026 en Villaluenga del Rosario\, Cádiz\, Andalucía\, ofreciendo una cita ideal para quienes quieren vivir el ambiente del evento desde cerca. Con una distancia aproximada de 15 km\, es una opción atractiva tanto para participantes habituales como para quienes quieren sumar un nuevo reto en el calendario.
LOCATION:Villaluenga del Rosario\, Cádiz\, Andalucía
URL:https://sportplan.vercel.app/en/events/ix-desafio-sierra-de-villaluenga-corta-villaluenga-del-rosario-2026-11-17-15k
END:VEVENT
END:VCALENDAR
