BEGIN:VCALENDAR
VERSION:2.0
PRODID:-//SportPlan//Event Calendar//EN
CALSCALE:GREGORIAN
BEGIN:VEVENT
UID:c680aa04-b7db-4a5a-8b5d-7fac9c51cd13@sportplan.local
DTSTAMP:20260420T210638Z
DTSTART;VALUE=DATE:20261003
DTEND;VALUE=DATE:20261004
SUMMARY:Istria300 2026
DESCRIPTION:Istria300 is an official amateur road-cycling participation event in Poreč\, Istria County\, Croatia on 3 October 2026. The official registration page confirms the 2026 edition date\, and the official course page lists the flagship route at 300.5 kilometres with 5\,150 metres of climbing on closed or managed Istrian roads\, alongside shorter course options under the same event umbrella.
LOCATION:Poreč\, Istria County\, Croatia
URL:https://sportplan.vercel.app/en/events/istria300-2026-porec-2026-10-03
END:VEVENT
END:VCALENDAR
