BEGIN:VCALENDAR
VERSION:2.0
PRODID:-//SportPlan//Event Calendar//EN
CALSCALE:GREGORIAN
BEGIN:VEVENT
UID:44c8e93f-7eaa-4e96-88de-e23134ba3191@sportplan.local
DTSTAMP:20260420T221540Z
DTSTART;VALUE=DATE:20260822
DTEND;VALUE=DATE:20260823
SUMMARY:IRONMAN Tallinn
DESCRIPTION:discovered via official IRONMAN sitemap/race pages\; Estonia had 0 queue entries before this run and was selected to expand underrepresented-country coverage
LOCATION:Tallinn\, Estonia
URL:https://sportplan.vercel.app/en/events/ironman-tallinn-2026-08-22
END:VEVENT
END:VCALENDAR
