BEGIN:VCALENDAR
VERSION:2.0
PRODID:-//SportPlan//Event Calendar//EN
CALSCALE:GREGORIAN
BEGIN:VEVENT
UID:063611ac-eb5d-4126-9a8c-f393fafdeb68@sportplan.local
DTSTAMP:20260421T010207Z
DTSTART;VALUE=DATE:20260816
DTEND;VALUE=DATE:20260817
SUMMARY:Ironman Mont-Tremblant 2026
DESCRIPTION:
LOCATION:Mont-Tremblant\, Québec
URL:https://sportplan.vercel.app/en/events/ironman-mont-tremblant-2026-mont-tremblant-2026-08-16
END:VEVENT
END:VCALENDAR
