BEGIN:VCALENDAR
VERSION:2.0
PRODID:-//SportPlan//Event Calendar//EN
CALSCALE:GREGORIAN
BEGIN:VEVENT
UID:4901ca80-3e2f-414f-8fdf-6b1100fcc7e7@sportplan.local
DTSTAMP:20260420T222241Z
DTSTART;VALUE=DATE:20260919
DTEND;VALUE=DATE:20260920
SUMMARY:IRONMAN Italy Emilia Romagna
DESCRIPTION:IRONMAN Italy Emilia Romagna si svolgerà il 19 settembre 2026 a Cervia. È un’ottima occasione per vivere una giornata di corsa con un percorso pensato per runner di diversi livelli. Perfetta sia per chi punta alla prestazione sia per chi vuole godersi percorso e atmosfera dell’evento.
LOCATION:Cervia
URL:https://sportplan.vercel.app/en/events/ironman-italy-emilia-romagna-cervia-2026-09-19
END:VEVENT
END:VCALENDAR
