BEGIN:VCALENDAR
VERSION:2.0
PRODID:-//SportPlan//Event Calendar//EN
CALSCALE:GREGORIAN
BEGIN:VEVENT
UID:e27ad227-b66d-4a55-a434-55c5ebf8920d@sportplan.local
DTSTAMP:20260420T204648Z
DTSTART;VALUE=DATE:20261122
DTEND;VALUE=DATE:20261123
SUMMARY:IRONMAN Cozumel
DESCRIPTION:IRONMAN Cozumel is an official amateur participation triathlon in Cozumel\, Quintana Roo\, Mexico on 22 November 2026. The official IRONMAN race page describes an ocean swim\, a flat bike ride\, and a coastal run\, highlighting Cozumel's coral reefs\, beaches\, and visitor attractions.
LOCATION:Cozumel\, Quintana Roo\, Mexico
URL:https://sportplan.vercel.app/en/events/ironman-cozumel-2026-cozumel-2026-11-22
END:VEVENT
END:VCALENDAR
