BEGIN:VCALENDAR
VERSION:2.0
PRODID:-//SportPlan//Event Calendar//EN
CALSCALE:GREGORIAN
BEGIN:VEVENT
UID:15b284f7-e1ea-45fb-b15a-3563416a8ca5@sportplan.local
DTSTAMP:20260420T194649Z
DTSTART;VALUE=DATE:20260802
DTEND;VALUE=DATE:20260803
SUMMARY:IRONMAN Canada-Ottawa
DESCRIPTION:IRONMAN Canada-Ottawa is scheduled for August 2\, 2026 in Ottawa\, ON\, Canada. It offers a great opportunity to enjoy a well-organized sporting event with a strong atmosphere and an engaging course. Its accessible format and attractive setting make it a solid option for a wide range of participants.
LOCATION:Ottawa\, ON\, Canada
URL:https://sportplan.vercel.app/en/events/ironman-canada-ottawa-2026-08-02
END:VEVENT
END:VCALENDAR
