BEGIN:VCALENDAR
VERSION:2.0
PRODID:-//SportPlan//Event Calendar//EN
CALSCALE:GREGORIAN
BEGIN:VEVENT
UID:a70eb5f7-9bc1-4422-85f9-d3137b5ab0ce@sportplan.local
DTSTAMP:20260420T180437Z
DTSTART;VALUE=DATE:20261004
DTEND;VALUE=DATE:20261005
SUMMARY:IRONMAN Calella-Barcelona
DESCRIPTION:IRONMAN Calella-Barcelona is an official full-distance triathlon in Calella\, Spain on 4 October 2026. The canonical IRONMAN race page provides registration\, course\, schedule\, travel\, and host-city sections for amateur participation.
LOCATION:Calella\, Spain
URL:https://sportplan.vercel.app/en/events/ironman-calella-barcelona-2026-calella-2026-10-04
END:VEVENT
END:VCALENDAR
