BEGIN:VCALENDAR
VERSION:2.0
PRODID:-//SportPlan//Event Calendar//EN
CALSCALE:GREGORIAN
BEGIN:VEVENT
UID:e71d9dc9-c78c-4711-8e60-667f8c896e29@sportplan.local
DTSTAMP:20260420T234730Z
DTSTART;VALUE=DATE:20260830
DTEND;VALUE=DATE:20260831
SUMMARY:Ironman 70.3 Zell Am See 2026
DESCRIPTION:Ironman 70.3 Zell Am See 2026 findet am 30. August 2026 in Zell am See\, Salzburg statt. Die Veranstaltung ist eine starke Wahl für Teilnehmende und Begleitpersonen\, die ein aktives und gut organisiertes Event suchen. Die ausgeschriebene Distanz beträgt 113 km.
LOCATION:Zell am See\, Salzburg
URL:https://sportplan.vercel.app/en/events/ironman-70-3-zell-am-see-2026-zell-am-see-2026-08-30
END:VEVENT
END:VCALENDAR
