BEGIN:VCALENDAR
VERSION:2.0
PRODID:-//SportPlan//Event Calendar//EN
CALSCALE:GREGORIAN
BEGIN:VEVENT
UID:db012ab1-1ce5-4061-b073-4ea7e22c038b@sportplan.local
DTSTAMP:20260420T163907Z
DTSTART;VALUE=DATE:20260222
DTEND;VALUE=DATE:20260223
SUMMARY:IRONMAN 70.3 San Salvador
DESCRIPTION:IRONMAN 70.3 San Salvador is an official amateur middle-distance triathlon scheduled for 22 February 2026 in San Salvador\, El Salvador. The official race page describes a one-lap 1.9 km swim in Lake Ilopango\, a bike course along the Pan-American Highway with steady climbs and highland views\, and a run through central San Salvador.
LOCATION:San Salvador
URL:https://sportplan.vercel.app/en/events/ironman-70-3-san-salvador-2026-02-22
END:VEVENT
END:VCALENDAR
