BEGIN:VCALENDAR
VERSION:2.0
PRODID:-//SportPlan//Event Calendar//EN
CALSCALE:GREGORIAN
BEGIN:VEVENT
UID:fe00f83a-5ae5-4046-ab85-226b3cc395bd@sportplan.local
DTSTAMP:20260421T131905Z
DTSTART;VALUE=DATE:20260614
DTEND;VALUE=DATE:20260615
SUMMARY:IRONMAN 70.3 Pula (probe)
DESCRIPTION:Legacy probe row retained without an official website_url after direct verification on 21 April 2026 showed the previous IRONMAN race URL returning a 404 page rather than a live event page.
LOCATION:Pula\, Croatia
URL:https://sportplan.vercel.app/en/events/ironman-70-3-pula-probe-2026-06-14
END:VEVENT
END:VCALENDAR
