BEGIN:VCALENDAR
VERSION:2.0
PRODID:-//SportPlan//Event Calendar//EN
CALSCALE:GREGORIAN
BEGIN:VEVENT
UID:a2ef33fa-fd0f-404b-a395-46e13c8501bb@sportplan.local
DTSTAMP:20260420T210637Z
DTSTART;VALUE=DATE:20260926
DTEND;VALUE=DATE:20260927
SUMMARY:IRONMAN 70.3 New York
DESCRIPTION:IRONMAN 70.3 New York is an official middle-distance triathlon at Jones Beach\, New York. The canonical IRONMAN race page lists the 2026 event on 26 September 2026 and describes an amateur-open race with a sheltered bay swim\, a fully closed flat bike course\, and a scenic Atlantic Ocean run.
LOCATION:Jones Beach\, New York\, United States
URL:https://sportplan.vercel.app/en/events/ironman-70-3-new-york-2026-09-26
END:VEVENT
END:VCALENDAR
